BEGIN:VCALENDAR
VERSION:2.0
PRODID:-//Comedy In A Van - ECPv6.15.20//NONSGML v1.0//EN
CALSCALE:GREGORIAN
METHOD:PUBLISH
X-WR-CALNAME:Comedy In A Van
X-ORIGINAL-URL:https://comedyinavan.co.uk
X-WR-CALDESC:Events for Comedy In A Van
REFRESH-INTERVAL;VALUE=DURATION:PT1H
X-Robots-Tag:noindex
X-PUBLISHED-TTL:PT1H
BEGIN:VTIMEZONE
TZID:Europe/London
BEGIN:DAYLIGHT
TZOFFSETFROM:+0000
TZOFFSETTO:+0100
TZNAME:BST
DTSTART:20230326T010000
END:DAYLIGHT
BEGIN:STANDARD
TZOFFSETFROM:+0100
TZOFFSETTO:+0000
TZNAME:GMT
DTSTART:20231029T010000
END:STANDARD
BEGIN:DAYLIGHT
TZOFFSETFROM:+0000
TZOFFSETTO:+0100
TZNAME:BST
DTSTART:20240331T010000
END:DAYLIGHT
BEGIN:STANDARD
TZOFFSETFROM:+0100
TZOFFSETTO:+0000
TZNAME:GMT
DTSTART:20241027T010000
END:STANDARD
BEGIN:DAYLIGHT
TZOFFSETFROM:+0000
TZOFFSETTO:+0100
TZNAME:BST
DTSTART:20250330T010000
END:DAYLIGHT
BEGIN:STANDARD
TZOFFSETFROM:+0100
TZOFFSETTO:+0000
TZNAME:GMT
DTSTART:20251026T010000
END:STANDARD
END:VTIMEZONE
BEGIN:VEVENT
DTSTART;TZID=Europe/London:20240428T200000
DTEND;TZID=Europe/London:20240428T221500
DTSTAMP:20260420T140214
CREATED:20240119T172111Z
LAST-MODIFIED:20240128T115552Z
UID:3663-1714334400-1714342500@comedyinavan.co.uk
SUMMARY:Glossop Comedy Club
DESCRIPTION:Matt Stellingwerf\, Jonny Pelham\, Sam Ayinde and MC Hatty Preston at the Crystal Ballroom\, Glossop. Scroll down for comedians’ details.\n\nActs subject to change. Fully seated. 18+ Proper sweary\, swearing. We want everyone to have a great night so please pop your phone on silent and don’t chat whilst the show is in progress. Thanks! Sorry\, but we can only reallocate or refund if the show is cancelled. \n\nKiwi\, farmer’s son\, trained criminologist and stand up comedian… Matt Stellingwerf is a man of contradictions. He expertly brings these contradictions to the stage with his typical low-key style and confidence finding the humour in topics as diverse as love\, politics and a crazy interview he once conducted with a serial killer in Death Row! \n“intelligent\, clever… …really likeable” ★★★★ Libel      ★★★★★ Keeping Up With NZ \nSelf-confessed ‘weird human being’\, Jonny Pelham has appeared on Live at the Apollo\, Mock The Week\, Alan Davies As Yet Untitled\, Russell Howard’s Stand-up Central\, Live from the BBC and Bobby and Harriet Get Married. \n★★★★★ Herald ★★★★★ Edfest ★★★★ Mirror  ★★★★ Guardian ★★★★ Telegraph ★★★★ Times \nYour evening comes complete with Sam Ayinde and MC Hatty Preston. Glossop Comedy Club is booked by Comedy In A Van \nGlossop Comedy Club. Sunday 28 April 2024 with Matt Stellingwerf\, Jonny Pelham\, TBC and MC Hatty Preston (C) Comedy In A Van \n\n\n  \n\n\n\n\n\n\n  \n 
URL:https://comedyinavan.co.uk/comedy-show/glossop-comedy-club-april-2024/
LOCATION:The Crystal Ballroom\, 22 Norfolk Street\, High Peak\, Glossop\, SK13 8BS\, United Kingdom
ATTACH;FMTTYPE=image/jpeg:https://comedyinavan.co.uk/wp-content/uploads/2024/01/GLO28Apr24_Glossop_Comedy_Club_Crystal_Ballroom_Comedy_in_A_Van_Jonny_Pelham_Hatty_Preston_April_2024.jpg
ORGANIZER;CN="Crystall Ballroom":MAILTO:info@crystalballroomglossop.com
END:VEVENT
END:VCALENDAR