BEGIN:VCALENDAR
VERSION:2.0
PRODID:-//Comedy In A Van - ECPv6.15.20//NONSGML v1.0//EN
CALSCALE:GREGORIAN
METHOD:PUBLISH
X-WR-CALNAME:Comedy In A Van
X-ORIGINAL-URL:https://comedyinavan.co.uk
X-WR-CALDESC:Events for Comedy In A Van
REFRESH-INTERVAL;VALUE=DURATION:PT1H
X-Robots-Tag:noindex
X-PUBLISHED-TTL:PT1H
BEGIN:VTIMEZONE
TZID:Europe/London
BEGIN:DAYLIGHT
TZOFFSETFROM:+0000
TZOFFSETTO:+0100
TZNAME:BST
DTSTART:20240331T010000
END:DAYLIGHT
BEGIN:STANDARD
TZOFFSETFROM:+0100
TZOFFSETTO:+0000
TZNAME:GMT
DTSTART:20241027T010000
END:STANDARD
BEGIN:DAYLIGHT
TZOFFSETFROM:+0000
TZOFFSETTO:+0100
TZNAME:BST
DTSTART:20250330T010000
END:DAYLIGHT
BEGIN:STANDARD
TZOFFSETFROM:+0100
TZOFFSETTO:+0000
TZNAME:GMT
DTSTART:20251026T010000
END:STANDARD
BEGIN:DAYLIGHT
TZOFFSETFROM:+0000
TZOFFSETTO:+0100
TZNAME:BST
DTSTART:20260329T010000
END:DAYLIGHT
BEGIN:STANDARD
TZOFFSETFROM:+0100
TZOFFSETTO:+0000
TZNAME:GMT
DTSTART:20261025T010000
END:STANDARD
END:VTIMEZONE
BEGIN:VEVENT
DTSTART;TZID=Europe/London:20250928T200000
DTEND;TZID=Europe/London:20250928T214000
DTSTAMP:20260419T134829
CREATED:20250415T091556Z
LAST-MODIFIED:20250928T103747Z
UID:5246-1759089600-1759095600@comedyinavan.co.uk
SUMMARY:Justin Moorhouse: The Greatest Performance of My Life (8pm show)
DESCRIPTION:This show is now sold out BUT Justin is back in Oldham on Wednesday 8 October. Full details here. With the Oldham Coliseum still under renovation\, Justin Moorhouse is returning to at Off The Rails Comedy Club Saddleworth  with two performances of his 2025 UK tour show! \nFully seated. 18+ Proper sweary\, swearing. We want everyone to have a great night so please pop your phone on silent and don’t chat whilst the show is in progress. Thanks! Sorry\, but we can only reallocate or refund if the show is cancelled. \nGet ready for an unforgettable experience as Justin returns with “The Greatest Performance of My Life“. \nAfter a successful and extensively extended tour of his 2022 show Stretch and Think (which you can catch in full on YouTube)\, he’s back on the road with this new show. \nThe story covers subjects ranging from pantomimes to dreams\, how to behave in hospitals\, small talk\, realising his Mum is a northern version of Columbo\, and how being a smart-mouthed kid saved him from a life of continually being beaten up. \nAbove all else\, it’s the Justin you have to come to expect. It’s funny and interesting\, and perhaps there’s a little bit that warms the soul\, too.\n \n★★★★  “What sets him apart is the craft. Lightning fast wit\, masterful delivery.” Chortle \n★★★★  “If joke-telling is your thing\, then Justin Moorhouse is your man…very high gag rate” Fest \n★★★★ “Skilful crafting…he keeps the laughs coming” British Theatre Guide \n“He charms the pants off the crowd” Sunday Times  “The amount of first-rate comic craft that goes into his routines is worthy of admiration” The Guardian “Simultaneously down-to- earth and out of this world” The List \n Off The Rails Comedy Club is programmed\, promoted and produced by Comedy In A Van and held at The Royal George\, Greenfield. \nJustin Moorhouse The Greatest Performance Of My Life comes to Saddleworth on Sunday 28 September 2025 (C) Comedy In A Van
URL:https://comedyinavan.co.uk/comedy-show/justin-moorhouse-the-greatest-performance-of-my-life-8pm-show/
LOCATION:Off The Rails Comedy Club\, Saddleworth\, Royal George\, Manchester Road\, Greenfield\, OL3 7HX\, United Kingdom
ATTACH;FMTTYPE=image/png:https://comedyinavan.co.uk/wp-content/uploads/2025/04/Justin_Moorhouse_Greatest_Saddleworth_Manchester_Sunday_28_September_2025.png
ORGANIZER;CN="Comedy In A Van":MAILTO:rob@comedyinavan.co.uk
END:VEVENT
END:VCALENDAR