BEGIN:VCALENDAR
VERSION:2.0
PRODID:-//Comedy In A Van - ECPv6.15.20//NONSGML v1.0//EN
CALSCALE:GREGORIAN
METHOD:PUBLISH
X-ORIGINAL-URL:https://comedyinavan.co.uk
X-WR-CALDESC:Events for Comedy In A Van
REFRESH-INTERVAL;VALUE=DURATION:PT1H
X-Robots-Tag:noindex
X-PUBLISHED-TTL:PT1H
BEGIN:VTIMEZONE
TZID:Europe/London
BEGIN:DAYLIGHT
TZOFFSETFROM:+0000
TZOFFSETTO:+0100
TZNAME:BST
DTSTART:20240331T010000
END:DAYLIGHT
BEGIN:STANDARD
TZOFFSETFROM:+0100
TZOFFSETTO:+0000
TZNAME:GMT
DTSTART:20241027T010000
END:STANDARD
BEGIN:DAYLIGHT
TZOFFSETFROM:+0000
TZOFFSETTO:+0100
TZNAME:BST
DTSTART:20250330T010000
END:DAYLIGHT
BEGIN:STANDARD
TZOFFSETFROM:+0100
TZOFFSETTO:+0000
TZNAME:GMT
DTSTART:20251026T010000
END:STANDARD
BEGIN:DAYLIGHT
TZOFFSETFROM:+0000
TZOFFSETTO:+0100
TZNAME:BST
DTSTART:20260329T010000
END:DAYLIGHT
BEGIN:STANDARD
TZOFFSETFROM:+0100
TZOFFSETTO:+0000
TZNAME:GMT
DTSTART:20261025T010000
END:STANDARD
END:VTIMEZONE
BEGIN:VEVENT
DTSTART;TZID=Europe/London:20250206T200000
DTEND;TZID=Europe/London:20250206T220000
DTSTAMP:20260421T140413
CREATED:20241010T150247Z
LAST-MODIFIED:20250102T150016Z
UID:10000603-1738872000-1738879200@comedyinavan.co.uk
SUMMARY:First Thursday Comedy @ The Met\, Bury
DESCRIPTION:Funmbi Omotayo (“Soon he could be playing to thousands“ Time Out)\,Kate Lucas (‘Wickedly naughty’ Broadway Baby)\, Ben Robinson and MC Alex Boardman (“A great comic” Sarah Millican) all coming to the First Thursday Comedy Club at The Met\, Bury. Please scroll down for comedians’ details. \nActs subject to change. Proper sweary\, swearing. Fully seated. 18+ We want all our guests to have a great night so please respect those around you by turning off your phone and not talking whilst the show is in progress. Sorry\, but we can only refund or reallocate if the show is cancelled. Thanks! \nFunmbi Omotayo is a force of nature\, a natural comedian who oozes charisma that makes the audience instantly fall in love with him. A circuit headliner who boast a host of awards\, his talents have seen him perform across the globe. Funmbi has provided tour support for John Bishop and Hal Crutteden and popped up on ITV\, BBC\, Comedy Central & Channel 4! \n“A charming young comic\, he’s got the jokes to back up his charm soon he could be playing to thousands“ Time Out \nAward winning musical comedian Kate Lucas is known for her razor sharp and deliciously dark songs. She combines catchy melodies with original lyrics to showcase her playfully bitter musings on life. Audiences have come to expect examples of what not to say and how not to behave from this gloriously talented young comic. \n‘Wickedly naughty and deliciously dark’ Broadway Baby   ‘Belly laughs and wide-eyed did-she-really-say-that horror’ Fest Magazine \nMC Alex Boardman\, who cut his comedic teeth on the burgeoning Manchester scene with sets at the Frog & Bucket often followed by an all nighter at The Hacienda! Family life may have tempered the inner wild child but it’s certainly added to both the maturity and the relatability of his stand up. A gifted gag smith\, Alex writes for a lot of big names and TV shows including John Bishop\, A Question Of Sport and many we’re not allowed to say! \n“A great comic” Sarah Millican “Double funny” Shaun Ryder \nLiverpool’s Ben Robinson is your middle act. The comedians you see at The Met\, Bury are booked by Comedy In A Van. \nFunmbi Omotayo\, Kate Lucas\, Ben Robinson\, MC Alex Boardman The Met\, Bury. on Thursday 6 February 2025 (C) Comedy In A Van
URL:https://comedyinavan.co.uk/comedy-show/first-thursday-comedy-the-met-bury-thursday-6-february-2025/
LOCATION:The Met\, Market St\, Bury\, BL9 0BW\, United Kingdom
ATTACH;FMTTYPE=image/jpeg:https://comedyinavan.co.uk/wp-content/uploads/2024/10/BM6Feb25_First_Thursday-Comedy_Bury_Met_Comedy_In_A_Van_Funmbi_Omotayo_Alex_Boardman_Thursday_6_February_2025.jpg
ORGANIZER;CN="The Met":MAILTO:hello@themet.org.uk
END:VEVENT
END:VCALENDAR