BEGIN:VCALENDAR
VERSION:2.0
PRODID:-//Comedy In A Van - ECPv6.15.20//NONSGML v1.0//EN
CALSCALE:GREGORIAN
METHOD:PUBLISH
X-ORIGINAL-URL:https://comedyinavan.co.uk
X-WR-CALDESC:Events for Comedy In A Van
REFRESH-INTERVAL;VALUE=DURATION:PT1H
X-Robots-Tag:noindex
X-PUBLISHED-TTL:PT1H
BEGIN:VTIMEZONE
TZID:Europe/London
BEGIN:DAYLIGHT
TZOFFSETFROM:+0000
TZOFFSETTO:+0100
TZNAME:BST
DTSTART:20240331T010000
END:DAYLIGHT
BEGIN:STANDARD
TZOFFSETFROM:+0100
TZOFFSETTO:+0000
TZNAME:GMT
DTSTART:20241027T010000
END:STANDARD
BEGIN:DAYLIGHT
TZOFFSETFROM:+0000
TZOFFSETTO:+0100
TZNAME:BST
DTSTART:20250330T010000
END:DAYLIGHT
BEGIN:STANDARD
TZOFFSETFROM:+0100
TZOFFSETTO:+0000
TZNAME:GMT
DTSTART:20251026T010000
END:STANDARD
BEGIN:DAYLIGHT
TZOFFSETFROM:+0000
TZOFFSETTO:+0100
TZNAME:BST
DTSTART:20260329T010000
END:DAYLIGHT
BEGIN:STANDARD
TZOFFSETFROM:+0100
TZOFFSETTO:+0000
TZNAME:GMT
DTSTART:20261025T010000
END:STANDARD
BEGIN:DAYLIGHT
TZOFFSETFROM:+0000
TZOFFSETTO:+0100
TZNAME:BST
DTSTART:20270328T010000
END:DAYLIGHT
BEGIN:STANDARD
TZOFFSETFROM:+0100
TZOFFSETTO:+0000
TZNAME:GMT
DTSTART:20271031T010000
END:STANDARD
END:VTIMEZONE
BEGIN:VEVENT
DTSTART;TZID=Europe/London:20260205T200000
DTEND;TZID=Europe/London:20260205T223000
DTSTAMP:20260424T111354
CREATED:20251106T170113Z
LAST-MODIFIED:20260104T161350Z
UID:10000765-1770321600-1770330600@comedyinavan.co.uk
SUMMARY:Oldham Comedy Club
DESCRIPTION:Oldham Comedy Club returns in February 2026 with Josh Jones (‘Must-see act’ Rolling Stone)\,  Adam Rowe (★★★★★ Herald ★★★★★ Entertainment Focus )\, Eddy Midgley Hot Water Comedy Club Comedian of the Year 2024) and MC Mick Ferry (‘Legend’ Jason Manford) all coming to Oldham Comedy Club. Held at Billington’s Oldham in conjunction with Oldham Coliseum Theatre.  Please scroll down for comedians’ details. \nActs subject to change. Proper sweary\, swearing. Fully seated. 18+ We want all our guests to have a great night so please respect those around you by turning off your phone and not talking whilst the show is in progress. Sorry\, but we can only refund or reallocate if the show is cancelled. Thanks! \nJosh Jones. Everyone’s favourite gobby Manc Princess and Edinburgh Comedy Awards’ Best Newcomer nominee. As seen on: The Jonathan Ross Show\, 8 Out of 10 Cats Does Countdown\, Alan Davies: As Yet Untitled\, Dating No Filter\, Comedy Central’s Guessable\, Rhod Gilbert’s Growing Pains and Comedy Central Live. Co-host on Dave’s Hard Sell with Darren Harriott and hit podcast Chatting with Cherubs with Morgan Rees. Featured on The Independent’s Best Jokes of the Festival 2022. \n‘Must-see act’ Rolling Stone ‘Hilarious’ ★★★★ Entertainment Now ★★★★ One4Review \nAdam Rowe is now known to millions through the Have A Word podcast he co-hosts with Dan Nightingale.  The #LidArmy phenomeno (Live At The Apollo\, Have A Word podcast\, Stand Up Sketch Show etc) His natural\, laid back persona combined with brutally honest\, opinionated stand-up and his phenomenal ad-libbing ability make each of his performances unique\, gloriously unpredictable and\, most importantly\, always hilarious. \n“Ridiculously good” ★★★★★ Herald     “Roars of laughter” Telegraph   “A masterclass” ★★★★★ Entertainment Focus \nFew are funnier than Comedy Store and Frog & Bucket veteran Mick Ferry! Whether he’s running with a scatterbrained idea\, an audience suggestion or dipping into his extensive mental files of absolute\, top drawer gags and routines\, the end result is a barrage of laughter from a very happy audience and that is what we are all about. \n“See him or regret it” John Bishop ★★★★★ Mirror “Absolute legend” Jason Manford \nHuddersfield’s Eddy Midgley (Hot Water Comedy Club Comedian of the Year 2024)  takes the middle spot.  Oldham Comedy Club is booked and teched by Comedy In A Van \nJosh Jones\, Adam Rowe\, Eddy Midgley & MC Mick Ferry.at Billington’s\, Oldham on Thursday 5 February 2026 (C) Comedy In A Van \n 
URL:https://comedyinavan.co.uk/comedy-show/oldham-comedy-club-thursday-5-february-2026/
LOCATION:Billingtons\, Oldham\, 3 Ascroft Street\, Oldham\, Greater Manchester\, OL1 1HY\, United Kingdom
ATTACH;FMTTYPE=image/jpeg:https://comedyinavan.co.uk/wp-content/uploads/2025/11/BILL5Feb26_Oldham_Comedy_Club_Billingtons_Coliseum_Comedy_In_A_van_Josh_Jones_Adam_Rowe_Mick_Ferry_Thursday_5_February_2025.jpg
ORGANIZER;CN="Oldham Coliseum":MAILTO:boxoffice@coliseum.org.uk
END:VEVENT
BEGIN:VEVENT
DTSTART;TZID=Europe/London:20251008T200000
DTEND;TZID=Europe/London:20251008T223000
DTSTAMP:20260424T111354
CREATED:20250720T161854Z
LAST-MODIFIED:20250922T140841Z
UID:10000728-1759953600-1759962600@comedyinavan.co.uk
SUMMARY:Oldham Comedy Club
DESCRIPTION:Oldham Comedy Club returns in October with Tom Wrigglesworth (★★★★★ Time Out ★★★★★ Scotsman ★★★★ The Times)\,  Justin Moorhouse (QI\, Coronation Street\, Celebrity Mastermind\, Live At The Apollo\, Phoenix Nights etc)\, Seeta Wrightson (‘Taking the comedy night by storm‘ Yorkshire Evening Post) and MC Mick Ferry (‘See him or regret it’ John Bishop) all coming to Oldham Comedy Club. Held at Billington’s Oldham in conjunction with Oldham Coliseum Theatre.  Please scroll down for comedians’ details. \nActs subject to change. Proper sweary\, swearing. Fully seated. 18+ We want all our guests to have a great night so please respect those around you by turning off your phone and not talking whilst the show is in progress. Sorry\, but we can only refund or reallocate if the show is cancelled. Thanks! \nTom Wrigglesworth is best known for his live storytelling shows and Sony Award winning BBC Radio comedy programmes which take a comical and emotional look at family relationships. Alongside his comedy work\, he’s used his engineering background to become a natural and engaging presenter for BBC Television and The Discovery Channel. \n“The ultimate crowd pleaser” The Guardian ★★★★★ Time Out ★★★★★ Scotsman ★★★★ The Times\n★★★★ Telegraph ★★★★ Evening Standard ★★★★ Sunday Times ★★★★ Metro ★★★★ The Guardian \nJustin Moorhouse won’t need any introduction to Lymm’s comedy fans. Whether you’ve seen him on tour\, at The Comedy Store\, on QI\, Coronation Street\, Celebrity Mastermind\, Live At The Apollo\, Dave’s One Night Stand or even Phoenix Nights (ask your mum!)\, you’ll know why he is constantly in demand as one of the UK’s funniest performers. Peerless performance skills backed by an arsenal of carefully crafted routines and tightly written gags make Justin a surefire success in front of any audience as thousands of fans will gladly testify. \n“If good old-fashioned joke-telling is your thing\, then Justin Moorhouse is your man” Fest \nFew are funnier than Comedy Store and Frog & Bucket veteran Mick Ferry! Whether he’s running with a scatterbrained idea\, an audience suggestion or dipping into his extensive mental files of absolute\, top drawer gags and routines\, the end result is a barrage of laughter from a very happy audience and that is what we are all about. \n“See him or regret it” John Bishop ★★★★★ Mirror “Absolute legend” Jason Manford \nBradford’s Seeta Wrightson takes the middle spot.  Oldham Comedy Club is booked and teched by Comedy In A Van \nTom Wrigglesworth\, Justin Moorhouse\, Seeta Wrightson & Mick Ferry.at Billington’s\, Oldham on Wednesday 8 October 2025 (C) Comedy In A Van
URL:https://comedyinavan.co.uk/comedy-show/oldham-comedy-club-wednesday-8-october-2025/
LOCATION:Billingtons\, Oldham\, 3 Ascroft Street\, Oldham\, Greater Manchester\, OL1 1HY\, United Kingdom
ATTACH;FMTTYPE=image/jpeg:https://comedyinavan.co.uk/wp-content/uploads/2025/07/BILL8oct25_Oldham_Comedy_Club_Billingtons_Coliseum_Comedy_In_A_van_Seeta_Wrightson_Mick_Ferry_Tom_Wrigglesworth_Justin_Moorhouse_Wednesday_8_October_2025.jpg
ORGANIZER;CN="Oldham Coliseum":MAILTO:boxoffice@coliseum.org.uk
END:VEVENT
BEGIN:VEVENT
DTSTART;TZID=Europe/London:20250312T200000
DTEND;TZID=Europe/London:20250312T223000
DTSTAMP:20260424T111354
CREATED:20241223T123736Z
LAST-MODIFIED:20250128T144402Z
UID:10000643-1741809600-1741818600@comedyinavan.co.uk
SUMMARY:Oldham Comedy Club
DESCRIPTION:Oldham Comedy Club with Nina Gilligan (‘Razor-sharp’ The Skinny ★★★★★ ‘Breath-taking’ Student Newspaper ★★★★★ Deadline)\,  Faizan Shah (​”One of my favourite new stand up comedians” Guz Khan)\, Tamsyn Kelly and MC Mick Ferry (‘See him or regret it’ John Bishop) all coming to Oldham Comedy Club. Held at Billington’s Oldham in conjunction with Oldham Coliseum Theatre.  Please scroll down for comedians’ details. \nActs subject to change. Proper sweary\, swearing. Fully seated. 18+ We want all our guests to have a great night so please respect those around you by turning off your phone and not talking whilst the show is in progress. Sorry\, but we can only refund or reallocate if the show is cancelled. Thanks! \nAfter a decade of slogging away at the comedy coalface\, Nina Gilligan joined the ranks of Vegas\, Manford and Ranganathan when she was crowned the 2021 Leicester Mercury Comedian Of The Year. 2023 saw Nina named as Best Act in the Yorkshire\, North West and Chortle Comedy Awards\, 2024 w-it was the BBC Audio Award’s chance to meet Nina and 2025 got off to a flying start when fellow comedians named her Best Club Comic in the UK Comedy Awards! Getting increasingly harder to book\, we are sure you will understand why once you have seen her strutting her very funny stuff. \n‘Razor-sharp wit’ The Skinny ★★★★★ ‘Breath-taking’ Student Newspaper  ‘Charming sass’ ★★★★★ Deadline \nFaizan Shah moved to the UK as a child. His well-crafted jokes make light of growing up in an immigrant household and the inevitable challenges it brings. The quality of Faizan’s joke writing\, and affable stage presence has seen him progress quickly from beating Comedy Store’s King Gong and Frog and Bucket’s Beat the Frog to now breaking through the circuit with a strong 20 minute set and performing at both those venues pro weekend gigs in under 2 years. We believe Faizan to be one of the most exciting new acts to come out of Manchester for a few years. \n​”One of my favourite new stand up comedians” Guz Khan “Nicely paced\, deadpan delivery” Chortle \nFew are funnier than Comedy Store and Frog & Bucket veteran Mick Ferry! Whether he’s running with a scatterbrained idea\, an audience suggestion or dipping into his extensive mental files of absolute\, top drawer gags and routines\, the end result is a barrage of laughter from a very happy audience and that is what we are all about. \n“See him or regret it” John Bishop ★★★★★ Mirror “Absolute legend” Jason Manford \nCornwall’s Tamsyn Kelly takes the middle spot (‘Hilarious‘ Independent) completes the line up.  Oldham Comedy Club is booked and teched by Comedy In A Van \nNina Gilligan\, Faizan Shah\, Tamsyn Kelly & Mick Ferry.at Billington’s\, Oldham on Wednesday 12 March 2025 (C) Comedy In A Van
URL:https://comedyinavan.co.uk/comedy-show/oldham-comedy-club/
LOCATION:Billingtons\, Oldham\, 3 Ascroft Street\, Oldham\, Greater Manchester\, OL1 1HY\, United Kingdom
ATTACH;FMTTYPE=image/jpeg:https://comedyinavan.co.uk/wp-content/uploads/2024/12/BILL12Mar25_Oldham_Comedy_Club_Billingtons_Coliseum_Comedy_In_A_van_Nina_Gilligan_Wednesday_12_March_2025.jpg
ORGANIZER;CN="Oldham Coliseum":MAILTO:boxoffice@coliseum.org.uk
END:VEVENT
END:VCALENDAR